BEGIN:VCALENDAR
VERSION:2.0
PRODID:-//ActionDignity - ECPv6.15.20//NONSGML v1.0//EN
CALSCALE:GREGORIAN
METHOD:PUBLISH
X-WR-CALNAME:ActionDignity
X-ORIGINAL-URL:https://actiondignity.org
X-WR-CALDESC:Events for ActionDignity
REFRESH-INTERVAL;VALUE=DURATION:PT1H
X-Robots-Tag:noindex
X-PUBLISHED-TTL:PT1H
BEGIN:VTIMEZONE
TZID:America/Denver
BEGIN:DAYLIGHT
TZOFFSETFROM:-0700
TZOFFSETTO:-0600
TZNAME:MDT
DTSTART:20250309T090000
END:DAYLIGHT
BEGIN:STANDARD
TZOFFSETFROM:-0600
TZOFFSETTO:-0700
TZNAME:MST
DTSTART:20251102T080000
END:STANDARD
BEGIN:DAYLIGHT
TZOFFSETFROM:-0700
TZOFFSETTO:-0600
TZNAME:MDT
DTSTART:20260308T090000
END:DAYLIGHT
BEGIN:STANDARD
TZOFFSETFROM:-0600
TZOFFSETTO:-0700
TZNAME:MST
DTSTART:20261101T080000
END:STANDARD
BEGIN:DAYLIGHT
TZOFFSETFROM:-0700
TZOFFSETTO:-0600
TZNAME:MDT
DTSTART:20270314T090000
END:DAYLIGHT
BEGIN:STANDARD
TZOFFSETFROM:-0600
TZOFFSETTO:-0700
TZNAME:MST
DTSTART:20271107T080000
END:STANDARD
END:VTIMEZONE
BEGIN:VEVENT
DTSTART;TZID=America/Denver:20260527T170000
DTEND;TZID=America/Denver:20260527T200000
DTSTAMP:20260425T073842
CREATED:20260420T221043Z
LAST-MODIFIED:20260424T220142Z
UID:12784-1779901200-1779912000@actiondignity.org
SUMMARY:Workers’ Rights Public Education Seminar: Advancing Fair Workplaces
DESCRIPTION:Join us for the Workers’ Rights Public Education Seminar\, focused on centering racialized workers\, strengthening engagement\, and advancing fair workplaces. \nThis community gathering will bring together workers\, service providers\, unions\, employers\, and community leaders to explore practical actions that promote equity\, inclusion\, and dignity in the workplace. \nParticipants will also celebrate the valuable contributions of racialized workers and communities while learning about resources and opportunities that support fair employment practices. \nThe seminar will feature meaningful dialogue\, networking opportunities\, and the official launch of the Workers Engagement & Knowledge Hub. \n 
URL:https://actiondignity.org/event/workers-rights-public-education-seminar/
LOCATION:ActionDignity Offices\, 915 – 33 Street NE\, Calgary\, AB\, T2A 6T2\, Canada
CATEGORIES:ActionDignity Events
ATTACH;FMTTYPE=image/png:https://actiondignity.org/wp-content/uploads/2026/04/new-web-banner-workers-rights-Public-Education-Seminar.png
ORGANIZER;CN="ActionDignity":MAILTO:info@actiondignity.org
END:VEVENT
END:VCALENDAR