BEGIN:VCALENDAR
VERSION:2.0
PRODID:-//ActionDignity - ECPv6.15.20//NONSGML v1.0//EN
CALSCALE:GREGORIAN
METHOD:PUBLISH
X-WR-CALNAME:ActionDignity
X-ORIGINAL-URL:https://actiondignity.org
X-WR-CALDESC:Events for ActionDignity
REFRESH-INTERVAL;VALUE=DURATION:PT1H
X-Robots-Tag:noindex
X-PUBLISHED-TTL:PT1H
BEGIN:VTIMEZONE
TZID:America/Denver
BEGIN:DAYLIGHT
TZOFFSETFROM:-0700
TZOFFSETTO:-0600
TZNAME:MDT
DTSTART:20250309T090000
END:DAYLIGHT
BEGIN:STANDARD
TZOFFSETFROM:-0600
TZOFFSETTO:-0700
TZNAME:MST
DTSTART:20251102T080000
END:STANDARD
BEGIN:DAYLIGHT
TZOFFSETFROM:-0700
TZOFFSETTO:-0600
TZNAME:MDT
DTSTART:20260308T090000
END:DAYLIGHT
BEGIN:STANDARD
TZOFFSETFROM:-0600
TZOFFSETTO:-0700
TZNAME:MST
DTSTART:20261101T080000
END:STANDARD
BEGIN:DAYLIGHT
TZOFFSETFROM:-0700
TZOFFSETTO:-0600
TZNAME:MDT
DTSTART:20270314T090000
END:DAYLIGHT
BEGIN:STANDARD
TZOFFSETFROM:-0600
TZOFFSETTO:-0700
TZNAME:MST
DTSTART:20271107T080000
END:STANDARD
END:VTIMEZONE
BEGIN:VEVENT
DTSTART;TZID=America/Denver:20260625T173000
DTEND;TZID=America/Denver:20260625T203000
DTSTAMP:20260423T080300
CREATED:20260417T153837Z
LAST-MODIFIED:20260421T200255Z
UID:12753-1782408600-1782419400@actiondignity.org
SUMMARY:2026 Annual General Meeting & Community Event
DESCRIPTION:Join ActionDignity for our 2026 Annual General Meeting & Community Event — an evening of connection\, reflection\, and community engagement. \nThis year’s theme\, Community Voices: Shaping Systems for Inclusive Futures\, highlights the power of collective leadership\, inclusive systems\, and community-driven change. \nCome learn about ActionDignity’s impact\, celebrate achievements\, connect with community members\, and help shape the future together.
URL:https://actiondignity.org/event/2026-annual-general-meeting-community-event/
LOCATION:DoubleTree by Hilton Calgary North\, 2120 16th Avenue NE\, Calgary\, Alberta\, Calgary\, AB\, T2E1L4\, Canada
CATEGORIES:ActionDignity Events
ATTACH;FMTTYPE=image/png:https://actiondignity.org/wp-content/uploads/2026/04/new-banner-pic-save-the-date-2026-AGM.png
ORGANIZER;CN="ActionDignity":MAILTO:info@actiondignity.org
END:VEVENT
END:VCALENDAR